BEGIN:VCALENDAR
PRODID:-//IBA27.de //NONSGML Events //EN
VERSION:2.0
BEGIN:VTIMEZONE
TZID:Europe/Berlin
BEGIN:STANDARD
TZOFFSETFROM:+0100
TZOFFSETTO:+0100
DTSTART:19701025T030000
TZNAME:CEST
END:STANDARD
END:VTIMEZONE
METHOD:PUBLISH
BEGIN:VEVENT
UID:10460
URL;VALUE=URI:https://www.iba27.de/vernetzung-untertuerkheim-stadtspaziergang/
DESCRIPTION:Vernetzung Untertürkheim: Stadtspaziergang https://www.iba27.de/vernetzung-untertuerkheim-stadtspaziergang/
DTSTAMP:20260424T124004Z
ORGANIZER:IBA27.de
DTSTART:20201014T000000
DTEND:20201014T000000
SUMMARY:Vernetzung Untertürkheim: Stadtspaziergang
END:VEVENT
END:VCALENDAR
