BEGIN:VCALENDAR
PRODID:-//IBA27.de //NONSGML Events //EN
VERSION:2.0
BEGIN:VTIMEZONE
TZID:Europe/Berlin
BEGIN:STANDARD
TZOFFSETFROM:+0100
TZOFFSETTO:+0100
DTSTART:19701025T030000
TZNAME:CEST
END:STANDARD
END:VTIMEZONE
METHOD:PUBLISH
BEGIN:VEVENT
UID:10543
URL;VALUE=URI:https://www.iba27.de/symposium-the-future-of-cities-exceptional-times/
DESCRIPTION:Symposium »The Future of Cities | Exceptional Times« https://www.iba27.de/symposium-the-future-of-cities-exceptional-times/
DTSTAMP:20260422T143856Z
ORGANIZER:IBA27.de
DTSTART:20201027T000000
DTEND:20201027T000000
SUMMARY:Symposium »The Future of Cities | Exceptional Times«
END:VEVENT
END:VCALENDAR
