BEGIN:VCALENDAR
PRODID:-//IBA27.de //NONSGML Events //EN
VERSION:2.0
BEGIN:VTIMEZONE
TZID:Europe/Berlin
BEGIN:STANDARD
TZOFFSETFROM:+0100
TZOFFSETTO:+0100
DTSTART:19701025T030000
TZNAME:CEST
END:STANDARD
END:VTIMEZONE
METHOD:PUBLISH
BEGIN:VEVENT
UID:12228
URL;VALUE=URI:https://www.iba27.de/ag-stammtisch-digitalisierung-und-pandemie-folgen-fuer-die-quartiere/
DESCRIPTION:AG-Stammtisch »Digitalisierung und Pandemie &#8211\; Folgen für die Quartiere?« https://www.iba27.de/ag-stammtisch-digitalisierung-und-pandemie-folgen-fuer-die-quartiere/
DTSTAMP:20260422T191816Z
ORGANIZER:IBA27.de
DTSTART:20210310T000000
DTEND:20210310T000000
SUMMARY:AG-Stammtisch »Digitalisierung und Pandemie – Folgen für
END:VEVENT
END:VCALENDAR
