BEGIN:VCALENDAR
PRODID:-//IBA27.de //NONSGML Events //EN
VERSION:2.0
BEGIN:VTIMEZONE
TZID:Europe/Berlin
BEGIN:STANDARD
TZOFFSETFROM:+0100
TZOFFSETTO:+0100
DTSTART:19701025T030000
TZNAME:CEST
END:STANDARD
END:VTIMEZONE
METHOD:PUBLISH
BEGIN:VEVENT
UID:13844
URL;VALUE=URI:https://www.iba27.de/planspiel-leonhardsvorstadt_termin/
DESCRIPTION:Planspiel Leonhardsvorstadt: Strategieplan zur Entwicklung der Neuen Mitte https://www.iba27.de/planspiel-leonhardsvorstadt_termin/
DTSTAMP:20260424T184035Z
ORGANIZER:IBA27.de
DTSTART:20210520T000000
DTEND:20210520T000000
SUMMARY:Planspiel Leonhardsvorstadt: Strategieplan zur Entwicklung d
END:VEVENT
END:VCALENDAR
