BEGIN:VCALENDAR
PRODID:-//IBA27.de //NONSGML Events //EN
VERSION:2.0
BEGIN:VTIMEZONE
TZID:Europe/Berlin
BEGIN:STANDARD
TZOFFSETFROM:+0100
TZOFFSETTO:+0100
DTSTART:19701025T030000
TZNAME:CEST
END:STANDARD
END:VTIMEZONE
METHOD:PUBLISH
BEGIN:VEVENT
UID:14125
URL;VALUE=URI:https://www.iba27.de/hft-meets-iba-6-oeffentlicher-raum-verkehr-und-infrastrukturen-fuer-das-quartier-von-morgen/
DESCRIPTION:HFT meets IBA #6: Öffentlicher Raum\, Verkehr und Infrastrukturen für das Quartier von Morgen https://www.iba27.de/hft-meets-iba-6-oeffentlicher-raum-verkehr-und-infrastrukturen-fuer-das-quartier-von-morgen/
DTSTAMP:20260423T071650Z
ORGANIZER:IBA27.de
DTSTART:20210923T000000
DTEND:20210923T000000
SUMMARY:HFT meets IBA #6: Öffentlicher Raum, Verkehr und Infrastruk
END:VEVENT
END:VCALENDAR
