BEGIN:VCALENDAR
PRODID:-//IBA27.de //NONSGML Events //EN
VERSION:2.0
BEGIN:VTIMEZONE
TZID:Europe/Berlin
BEGIN:STANDARD
TZOFFSETFROM:+0100
TZOFFSETTO:+0100
DTSTART:19701025T030000
TZNAME:CEST
END:STANDARD
END:VTIMEZONE
METHOD:PUBLISH
BEGIN:VEVENT
UID:14494
URL;VALUE=URI:https://www.iba27.de/experten-workshop-zur-christus-erloeser-kirche/
DESCRIPTION:Experten-Workshop zur Christus Erlöser Kirche https://www.iba27.de/experten-workshop-zur-christus-erloeser-kirche/
DTSTAMP:20260422T085859Z
ORGANIZER:IBA27.de
DTSTART:20210709T000000
DTEND:20210709T000000
SUMMARY:Experten-Workshop zur Christus Erlöser Kirche
END:VEVENT
END:VCALENDAR
