BEGIN:VCALENDAR
PRODID:-//IBA27.de //NONSGML Events //EN
VERSION:2.0
BEGIN:VTIMEZONE
TZID:Europe/Berlin
BEGIN:STANDARD
TZOFFSETFROM:+0100
TZOFFSETTO:+0100
DTSTART:19701025T030000
TZNAME:CEST
END:STANDARD
END:VTIMEZONE
METHOD:PUBLISH
BEGIN:VEVENT
UID:15581
URL;VALUE=URI:https://www.iba27.de/auftaktveranstaltung-zukunft-muenster-2050/
DESCRIPTION:Auftaktveranstaltung »Zukunft Münster 2050« https://www.iba27.de/auftaktveranstaltung-zukunft-muenster-2050/
DTSTAMP:20260424T114423Z
ORGANIZER:IBA27.de
DTSTART:20211025T180000
DTEND:20211025T203000
SUMMARY:Auftaktveranstaltung »Zukunft Münster 2050«
END:VEVENT
END:VCALENDAR
