BEGIN:VCALENDAR
PRODID:-//IBA27.de //NONSGML Events //EN
VERSION:2.0
BEGIN:VTIMEZONE
TZID:Europe/Berlin
BEGIN:STANDARD
TZOFFSETFROM:+0100
TZOFFSETTO:+0100
DTSTART:19701025T030000
TZNAME:CEST
END:STANDARD
END:VTIMEZONE
METHOD:PUBLISH
BEGIN:VEVENT
UID:1862
URL;VALUE=URI:https://www.iba27.de/tagung-boden-macht-stadt/
DESCRIPTION:Tagung: »BODEN – MACHT – STADT« https://www.iba27.de/tagung-boden-macht-stadt/
DTSTAMP:20260422T225947Z
ORGANIZER:IBA27.de
DTSTART:20191106T000000
DTEND:20191107T000000
SUMMARY:Tagung: »BODEN – MACHT – STADT«
END:VEVENT
END:VCALENDAR
