BEGIN:VCALENDAR
PRODID:-//IBA27.de //NONSGML Events //EN
VERSION:2.0
BEGIN:VTIMEZONE
TZID:Europe/Berlin
BEGIN:STANDARD
TZOFFSETFROM:+0100
TZOFFSETTO:+0100
DTSTART:19701025T030000
TZNAME:CEST
END:STANDARD
END:VTIMEZONE
METHOD:PUBLISH
BEGIN:VEVENT
UID:18883
URL;VALUE=URI:https://www.iba27.de/besichtigung-demonstrator-hochhaus/
DESCRIPTION:Besichtigung des ersten fertiggestellten IBA’27-Projekts: Demonstrator-Hochhaus https://www.iba27.de/besichtigung-demonstrator-hochhaus/
DTSTAMP:20260424T210749Z
ORGANIZER:IBA27.de
DTSTART:20220406T000000
DTEND:20220406T000000
SUMMARY:Besichtigung des ersten fertiggestellten IBA’27-Projekts: 
END:VEVENT
END:VCALENDAR
