BEGIN:VCALENDAR
PRODID:-//IBA27.de //NONSGML Events //EN
VERSION:2.0
BEGIN:VTIMEZONE
TZID:Europe/Berlin
BEGIN:STANDARD
TZOFFSETFROM:+0100
TZOFFSETTO:+0100
DTSTART:19701025T030000
TZNAME:CEST
END:STANDARD
END:VTIMEZONE
METHOD:PUBLISH
BEGIN:VEVENT
UID:23149
URL;VALUE=URI:https://www.iba27.de/stammtisch-abwasser-stadt/
DESCRIPTION:AG-Stammtisch »Das Abwasser in der Stadt« https://www.iba27.de/stammtisch-abwasser-stadt/
DTSTAMP:20260421T055918Z
ORGANIZER:IBA27.de
DTSTART:20221005T173000
DTEND:20221005T190000
SUMMARY:AG-Stammtisch »Das Abwasser in der Stadt«
END:VEVENT
END:VCALENDAR
