BEGIN:VCALENDAR
PRODID:-//IBA27.de //NONSGML Events //EN
VERSION:2.0
BEGIN:VTIMEZONE
TZID:Europe/Berlin
BEGIN:STANDARD
TZOFFSETFROM:+0100
TZOFFSETTO:+0100
DTSTART:19701025T030000
TZNAME:CEST
END:STANDARD
END:VTIMEZONE
METHOD:PUBLISH
BEGIN:VEVENT
UID:2344
URL;VALUE=URI:https://www.iba27.de/architektur-forum-baden-wuerttemberg-ideen-zur-stadtkultur/
DESCRIPTION:Architektur-Forum Baden-Württemberg: Ideen zur Stadtkultur https://www.iba27.de/architektur-forum-baden-wuerttemberg-ideen-zur-stadtkultur/
DTSTAMP:20260423T135905Z
ORGANIZER:IBA27.de
DTSTART:20180326T000000
DTEND:20180326T000000
SUMMARY:Architektur-Forum Baden-Württemberg: Ideen zur Stadtkultur
END:VEVENT
END:VCALENDAR
