BEGIN:VCALENDAR
PRODID:-//IBA27.de //NONSGML Events //EN
VERSION:2.0
BEGIN:VTIMEZONE
TZID:Europe/Berlin
BEGIN:STANDARD
TZOFFSETFROM:+0100
TZOFFSETTO:+0100
DTSTART:19701025T030000
TZNAME:CEST
END:STANDARD
END:VTIMEZONE
METHOD:PUBLISH
BEGIN:VEVENT
UID:23518
URL;VALUE=URI:https://www.iba27.de/stuttgarter-iba-projekte-und-vorhaben/
DESCRIPTION:Stuttgarter IBA-Projekte und Vorhaben https://www.iba27.de/stuttgarter-iba-projekte-und-vorhaben/
DTSTAMP:20260424T114116Z
ORGANIZER:IBA27.de
DTSTART:20220917T110000
DTEND:20220917T160000
SUMMARY:Stuttgarter IBA-Projekte und Vorhaben
END:VEVENT
END:VCALENDAR
