BEGIN:VCALENDAR
PRODID:-//IBA27.de //NONSGML Events //EN
VERSION:2.0
BEGIN:VTIMEZONE
TZID:Europe/Berlin
BEGIN:STANDARD
TZOFFSETFROM:+0100
TZOFFSETTO:+0100
DTSTART:19701025T030000
TZNAME:CEST
END:STANDARD
END:VTIMEZONE
METHOD:PUBLISH
BEGIN:VEVENT
UID:25033
URL;VALUE=URI:https://www.iba27.de/archikon-2023/
DESCRIPTION:Archikon 2023 https://www.iba27.de/archikon-2023/
DTSTAMP:20260421T134246Z
ORGANIZER:IBA27.de
DTSTART:20230419T100000
DTEND:20230419T200000
SUMMARY:Archikon 2023
END:VEVENT
END:VCALENDAR
