BEGIN:VCALENDAR
PRODID:-//IBA27.de //NONSGML Events //EN
VERSION:2.0
BEGIN:VTIMEZONE
TZID:Europe/Berlin
BEGIN:STANDARD
TZOFFSETFROM:+0100
TZOFFSETTO:+0100
DTSTART:19701025T030000
TZNAME:CEST
END:STANDARD
END:VTIMEZONE
METHOD:PUBLISH
BEGIN:VEVENT
UID:28072
URL;VALUE=URI:https://www.iba27.de/fuehrung-durch-die-zentrale-ausstellung-zur-iba27-19/
DESCRIPTION:Führung durch die Ausstellung zur IBA’27 https://www.iba27.de/fuehrung-durch-die-zentrale-ausstellung-zur-iba27-19/
DTSTAMP:20260421T081817Z
ORGANIZER:IBA27.de
DTSTART:20230914T170000
DTEND:20230914T180000
SUMMARY:Führung durch die Ausstellung zur IBA’27
END:VEVENT
END:VCALENDAR
