BEGIN:VCALENDAR
PRODID:-//IBA27.de //NONSGML Events //EN
VERSION:2.0
BEGIN:VTIMEZONE
TZID:Europe/Berlin
BEGIN:STANDARD
TZOFFSETFROM:+0100
TZOFFSETTO:+0100
DTSTART:19701025T030000
TZNAME:CEST
END:STANDARD
END:VTIMEZONE
METHOD:PUBLISH
BEGIN:VEVENT
UID:2950
URL;VALUE=URI:https://www.iba27.de/auftaktveranstaltung-2/
DESCRIPTION:Auftaktveranstaltung https://www.iba27.de/auftaktveranstaltung-2/
DTSTAMP:20260422T103659Z
ORGANIZER:IBA27.de
DTSTART:20160429T000000
DTEND:20160429T000000
SUMMARY:Auftaktveranstaltung
END:VEVENT
END:VCALENDAR
