BEGIN:VCALENDAR
PRODID:-//IBA27.de //NONSGML Events //EN
VERSION:2.0
BEGIN:VTIMEZONE
TZID:Europe/Berlin
BEGIN:STANDARD
TZOFFSETFROM:+0100
TZOFFSETTO:+0100
DTSTART:19701025T030000
TZNAME:CEST
END:STANDARD
END:VTIMEZONE
METHOD:PUBLISH
BEGIN:VEVENT
UID:30047
URL;VALUE=URI:https://www.iba27.de/netzwerktreffen-zirkulaeres-bauen/
DESCRIPTION:Netzwerktreffen »Zirkuläres Bauen« https://www.iba27.de/netzwerktreffen-zirkulaeres-bauen/
DTSTAMP:20260420T210545Z
ORGANIZER:IBA27.de
DTSTART:20231107T100000
DTEND:20231107T170000
SUMMARY:Netzwerktreffen »Zirkuläres Bauen«
END:VEVENT
END:VCALENDAR
