BEGIN:VCALENDAR
PRODID:-//IBA27.de //NONSGML Events //EN
VERSION:2.0
BEGIN:VTIMEZONE
TZID:Europe/Berlin
BEGIN:STANDARD
TZOFFSETFROM:+0100
TZOFFSETTO:+0100
DTSTART:19701025T030000
TZNAME:CEST
END:STANDARD
END:VTIMEZONE
METHOD:PUBLISH
BEGIN:VEVENT
UID:30224
URL;VALUE=URI:https://www.iba27.de/besichtigung-holz-hybrid-bruecke-ueber-den-seeblick-weg/
DESCRIPTION:Besichtigung: Holz-Hybrid-Brücke über den Seeblick-Weg https://www.iba27.de/besichtigung-holz-hybrid-bruecke-ueber-den-seeblick-weg/
DTSTAMP:20260420T222032Z
ORGANIZER:IBA27.de
DTSTART:20240111T143000
DTEND:20240111T153000
SUMMARY:Besichtigung: Holz-Hybrid-Brücke über den Seeblick-Weg
END:VEVENT
END:VCALENDAR
