BEGIN:VCALENDAR
PRODID:-//IBA27.de //NONSGML Events //EN
VERSION:2.0
BEGIN:VTIMEZONE
TZID:Europe/Berlin
BEGIN:STANDARD
TZOFFSETFROM:+0100
TZOFFSETTO:+0100
DTSTART:19701025T030000
TZNAME:CEST
END:STANDARD
END:VTIMEZONE
METHOD:PUBLISH
BEGIN:VEVENT
UID:31435
URL;VALUE=URI:https://www.iba27.de/wintermarkt-im-iba-projekt-quartier-neckarspinnerei-in-wendlingen/
DESCRIPTION:Wintermarkt im IBA-Projekt »Quartier Neckarspinnerei« in Wendlingen https://www.iba27.de/wintermarkt-im-iba-projekt-quartier-neckarspinnerei-in-wendlingen/
DTSTAMP:20260422T142908Z
ORGANIZER:IBA27.de
DTSTART:20240113T150000
DTEND:20240113T220000
SUMMARY:Wintermarkt im IBA-Projekt »Quartier Neckarspinnerei« in W
END:VEVENT
END:VCALENDAR
