BEGIN:VCALENDAR
PRODID:-//IBA27.de //NONSGML Events //EN
VERSION:2.0
BEGIN:VTIMEZONE
TZID:Europe/Berlin
BEGIN:STANDARD
TZOFFSETFROM:+0100
TZOFFSETTO:+0100
DTSTART:19701025T030000
TZNAME:CEST
END:STANDARD
END:VTIMEZONE
METHOD:PUBLISH
BEGIN:VEVENT
UID:31501
URL;VALUE=URI:https://www.iba27.de/wohn-und-lebenstrends-die-iba27-in-der-region-2/
DESCRIPTION:Wohn- und Lebenstrends: Die IBA’27 in der Region https://www.iba27.de/wohn-und-lebenstrends-die-iba27-in-der-region-2/
DTSTAMP:20260424T083451Z
ORGANIZER:IBA27.de
DTSTART:20240222T193000
DTEND:20240222T193000
SUMMARY:Wohn- und Lebenstrends: Die IBA’27 in der Region
END:VEVENT
END:VCALENDAR
