BEGIN:VCALENDAR
PRODID:-//IBA27.de //NONSGML Events //EN
VERSION:2.0
BEGIN:VTIMEZONE
TZID:Europe/Berlin
BEGIN:STANDARD
TZOFFSETFROM:+0100
TZOFFSETTO:+0100
DTSTART:19701025T030000
TZNAME:CEST
END:STANDARD
END:VTIMEZONE
METHOD:PUBLISH
BEGIN:VEVENT
UID:32062
URL;VALUE=URI:https://www.iba27.de/architekturfestival-turn-on/
DESCRIPTION:Architekturfestival TURN ON https://www.iba27.de/architekturfestival-turn-on/
DTSTAMP:20260420T192953Z
ORGANIZER:IBA27.de
DTSTART:20240223T000000
DTEND:20240224T000000
SUMMARY:Architekturfestival TURN ON
END:VEVENT
END:VCALENDAR
