BEGIN:VCALENDAR
PRODID:-//IBA27.de //NONSGML Events //EN
VERSION:2.0
BEGIN:VTIMEZONE
TZID:Europe/Berlin
BEGIN:STANDARD
TZOFFSETFROM:+0100
TZOFFSETTO:+0100
DTSTART:19701025T030000
TZNAME:CEST
END:STANDARD
END:VTIMEZONE
METHOD:PUBLISH
BEGIN:VEVENT
UID:32140
URL;VALUE=URI:https://www.iba27.de/diskussionsrunde-baukultur-und-gewerbegebiete/
DESCRIPTION:Fachdiskussion: Vergessene Stadträume &#8211\; Baukultur im Gewerbegebiet? https://www.iba27.de/diskussionsrunde-baukultur-und-gewerbegebiete/
DTSTAMP:20260422T164645Z
ORGANIZER:IBA27.de
DTSTART:20240229T180000
DTEND:20240229T200000
SUMMARY:Fachdiskussion: Vergessene Stadträume – Baukultur im Gewe
END:VEVENT
END:VCALENDAR
