BEGIN:VCALENDAR
PRODID:-//IBA27.de //NONSGML Events //EN
VERSION:2.0
BEGIN:VTIMEZONE
TZID:Europe/Berlin
BEGIN:STANDARD
TZOFFSETFROM:+0100
TZOFFSETTO:+0100
DTSTART:19701025T030000
TZNAME:CEST
END:STANDARD
END:VTIMEZONE
METHOD:PUBLISH
BEGIN:VEVENT
UID:33093
URL;VALUE=URI:https://www.iba27.de/iba27-konkret-die-brenzkirche-zurueck-in-die-zukunft/
DESCRIPTION:IBAâ€™27 konkret: Â»Die Brenzkirche- ZurÃ¼ck in die ZukunftÂ« https://www.iba27.de/iba27-konkret-die-brenzkirche-zurueck-in-die-zukunft/
DTSTAMP:20260420T210045Z
ORGANIZER:IBA27.de
DTSTART:20240627T180000
DTEND:20240627T190000
SUMMARY:IBAâ€™27 konkret: Â»Die Brenzkirche- ZurÃ¼ck in die ZukunftÂ
END:VEVENT
END:VCALENDAR
