BEGIN:VCALENDAR
PRODID:-//IBA27.de //NONSGML Events //EN
VERSION:2.0
BEGIN:VTIMEZONE
TZID:Europe/Berlin
BEGIN:STANDARD
TZOFFSETFROM:+0100
TZOFFSETTO:+0100
DTSTART:19701025T030000
TZNAME:CEST
END:STANDARD
END:VTIMEZONE
METHOD:PUBLISH
BEGIN:VEVENT
UID:33096
URL;VALUE=URI:https://www.iba27.de/iba27-neues-bauen-nachhaltiges-bauen/
DESCRIPTION:IBA&#8217\;27 – Neues Bauen! Nachhaltiges Bauen! https://www.iba27.de/iba27-neues-bauen-nachhaltiges-bauen/
DTSTAMP:20260420T205953Z
ORGANIZER:IBA27.de
DTSTART:20240704T180000
DTEND:20240704T200000
SUMMARY:IBA’27 – Neues Bauen! Nachhaltiges Bauen!
END:VEVENT
END:VCALENDAR
