BEGIN:VCALENDAR
PRODID:-//IBA27.de //NONSGML Events //EN
VERSION:2.0
BEGIN:VTIMEZONE
TZID:Europe/Berlin
BEGIN:STANDARD
TZOFFSETFROM:+0100
TZOFFSETTO:+0100
DTSTART:19701025T030000
TZNAME:CEST
END:STANDARD
END:VTIMEZONE
METHOD:PUBLISH
BEGIN:VEVENT
UID:33112
URL;VALUE=URI:https://www.iba27.de/iba-stammtisch-stadt-machen-perspektiven-aus-dem-superblock-west/
DESCRIPTION:IBA-Stammtisch: Stadt machen &#8211\; Perspektiven aus dem Superblock West https://www.iba27.de/iba-stammtisch-stadt-machen-perspektiven-aus-dem-superblock-west/
DTSTAMP:20260421T000115Z
ORGANIZER:IBA27.de
DTSTART:20240508T173000
DTEND:20240508T190000
SUMMARY:IBA-Stammtisch: Stadt machen – Perspektiven aus dem Superb
END:VEVENT
END:VCALENDAR
