BEGIN:VCALENDAR
PRODID:-//IBA27.de //NONSGML Events //EN
VERSION:2.0
BEGIN:VTIMEZONE
TZID:Europe/Berlin
BEGIN:STANDARD
TZOFFSETFROM:+0100
TZOFFSETTO:+0100
DTSTART:19701025T030000
TZNAME:CEST
END:STANDARD
END:VTIMEZONE
METHOD:PUBLISH
BEGIN:VEVENT
UID:33362
URL;VALUE=URI:https://www.iba27.de/iba27-afterwork-3/
DESCRIPTION:ABGESAGT: IBA’27-Afterwork x Raumprobe https://www.iba27.de/iba27-afterwork-3/
DTSTAMP:20260422T164252Z
ORGANIZER:IBA27.de
DTSTART:20240704T170000
DTEND:20240704T170000
SUMMARY:ABGESAGT: IBA’27-Afterwork x Raumprobe
END:VEVENT
END:VCALENDAR
