BEGIN:VCALENDAR
PRODID:-//IBA27.de //NONSGML Events //EN
VERSION:2.0
BEGIN:VTIMEZONE
TZID:Europe/Berlin
BEGIN:STANDARD
TZOFFSETFROM:+0100
TZOFFSETTO:+0100
DTSTART:19701025T030000
TZNAME:CEST
END:STANDARD
END:VTIMEZONE
METHOD:PUBLISH
BEGIN:VEVENT
UID:33731
URL;VALUE=URI:https://www.iba27.de/4-hfwu-hochschulforum-iba27/
DESCRIPTION:Abgesagt\, neuer Termin in Planung: 4. HfWU-Hochschulforum IBA’27 https://www.iba27.de/4-hfwu-hochschulforum-iba27/
DTSTAMP:20260420T221036Z
ORGANIZER:IBA27.de
DTSTART:20240622T091500
DTEND:20240622T120000
SUMMARY:Abgesagt, neuer Termin in Planung: 4. HfWU-Hochschulforum IB
END:VEVENT
END:VCALENDAR
