BEGIN:VCALENDAR
PRODID:-//IBA27.de //NONSGML Events //EN
VERSION:2.0
BEGIN:VTIMEZONE
TZID:Europe/Berlin
BEGIN:STANDARD
TZOFFSETFROM:+0100
TZOFFSETTO:+0100
DTSTART:19701025T030000
TZNAME:CEST
END:STANDARD
END:VTIMEZONE
METHOD:PUBLISH
BEGIN:VEVENT
UID:35103
URL;VALUE=URI:https://www.iba27.de/baukultur-kuenstliche-intelligenz-in-architektur-und-staedtebau/
DESCRIPTION:19. Schwäbischer Städtetag: Baukultur? – Künstliche Intelligenz in Architektur und Städtebau https://www.iba27.de/baukultur-kuenstliche-intelligenz-in-architektur-und-staedtebau/
DTSTAMP:20260420T210601Z
ORGANIZER:IBA27.de
DTSTART:20241104T130000
DTEND:20241104T180000
SUMMARY:19. Schwäbischer Städtetag: Baukultur? – Künstliche Int
END:VEVENT
END:VCALENDAR
