BEGIN:VCALENDAR
PRODID:-//IBA27.de //NONSGML Events //EN
VERSION:2.0
BEGIN:VTIMEZONE
TZID:Europe/Berlin
BEGIN:STANDARD
TZOFFSETFROM:+0100
TZOFFSETTO:+0100
DTSTART:19701025T030000
TZNAME:CEST
END:STANDARD
END:VTIMEZONE
METHOD:PUBLISH
BEGIN:VEVENT
UID:35849
URL;VALUE=URI:https://www.iba27.de/aurazonen-was-kann-der-aneignungsraum-leisten/
DESCRIPTION:Aurazonen &#8211\; was kann der Aneignungsraum leisten? https://www.iba27.de/aurazonen-was-kann-der-aneignungsraum-leisten/
DTSTAMP:20260426T011049Z
ORGANIZER:IBA27.de
DTSTART:20241012T170000
DTEND:20241012T170000
SUMMARY:Aurazonen – was kann der Aneignungsraum leisten?
END:VEVENT
END:VCALENDAR
