BEGIN:VCALENDAR
PRODID:-//IBA27.de //NONSGML Events //EN
VERSION:2.0
BEGIN:VTIMEZONE
TZID:Europe/Berlin
BEGIN:STANDARD
TZOFFSETFROM:+0100
TZOFFSETTO:+0100
DTSTART:19701025T030000
TZNAME:CEST
END:STANDARD
END:VTIMEZONE
METHOD:PUBLISH
BEGIN:VEVENT
UID:36273
URL;VALUE=URI:https://www.iba27.de/filmschau-podium-haus-fuer-film-und-medien/
DESCRIPTION:Filmschau-Podium »Haus für Film und Medien« https://www.iba27.de/filmschau-podium-haus-fuer-film-und-medien/
DTSTAMP:20260420T221452Z
ORGANIZER:IBA27.de
DTSTART:20241206T180000
DTEND:20241206T180000
SUMMARY:Filmschau-Podium »Haus für Film und Medien«
END:VEVENT
END:VCALENDAR
