BEGIN:VCALENDAR
PRODID:-//IBA27.de //NONSGML Events //EN
VERSION:2.0
BEGIN:VTIMEZONE
TZID:Europe/Berlin
BEGIN:STANDARD
TZOFFSETFROM:+0100
TZOFFSETTO:+0100
DTSTART:19701025T030000
TZNAME:CEST
END:STANDARD
END:VTIMEZONE
METHOD:PUBLISH
BEGIN:VEVENT
UID:36659
URL;VALUE=URI:https://www.iba27.de/weihnachtliches-iba27-afterwork-16/
DESCRIPTION:IBA’27-Afterwork #16: Materialinnovation beim Weissenhof.Forum https://www.iba27.de/weihnachtliches-iba27-afterwork-16/
DTSTAMP:20260421T060037Z
ORGANIZER:IBA27.de
DTSTART:20251218T173000
DTEND:20251218T173000
SUMMARY:IBA’27-Afterwork #16: Materialinnovation beim Weissenhof.
END:VEVENT
END:VCALENDAR
