BEGIN:VCALENDAR
PRODID:-//IBA27.de //NONSGML Events //EN
VERSION:2.0
BEGIN:VTIMEZONE
TZID:Europe/Berlin
BEGIN:STANDARD
TZOFFSETFROM:+0100
TZOFFSETTO:+0100
DTSTART:19701025T030000
TZNAME:CEST
END:STANDARD
END:VTIMEZONE
METHOD:PUBLISH
BEGIN:VEVENT
UID:37779
URL;VALUE=URI:https://www.iba27.de/eroeffnung-iba27-festival-2/
DESCRIPTION:Eröffnung IBA’27 Festival #2 https://www.iba27.de/eroeffnung-iba27-festival-2/
DTSTAMP:20260420T192829Z
ORGANIZER:IBA27.de
DTSTART:20250509T160000
DTEND:20250509T160000
SUMMARY:Eröffnung IBA’27 Festival #2
END:VEVENT
END:VCALENDAR
