BEGIN:VCALENDAR
PRODID:-//IBA27.de //NONSGML Events //EN
VERSION:2.0
BEGIN:VTIMEZONE
TZID:Europe/Berlin
BEGIN:STANDARD
TZOFFSETFROM:+0100
TZOFFSETTO:+0100
DTSTART:19701025T030000
TZNAME:CEST
END:STANDARD
END:VTIMEZONE
METHOD:PUBLISH
BEGIN:VEVENT
UID:39393
URL;VALUE=URI:https://www.iba27.de/ausstellung-neustart-tuebingen/
DESCRIPTION:Ausstellung Neustart Tübingen  https://www.iba27.de/ausstellung-neustart-tuebingen/
DTSTAMP:20260420T193302Z
ORGANIZER:IBA27.de
DTSTART:20250915T000000
DTEND:20250926T000000
SUMMARY:Ausstellung Neustart Tübingen 
END:VEVENT
END:VCALENDAR
