BEGIN:VCALENDAR
PRODID:-//IBA27.de //NONSGML Events //EN
VERSION:2.0
BEGIN:VTIMEZONE
TZID:Europe/Berlin
BEGIN:STANDARD
TZOFFSETFROM:+0100
TZOFFSETTO:+0100
DTSTART:19701025T030000
TZNAME:CEST
END:STANDARD
END:VTIMEZONE
METHOD:PUBLISH
BEGIN:VEVENT
UID:39854
URL;VALUE=URI:https://www.iba27.de/weissenhoffence/
DESCRIPTION:WeißenhOFFENCE https://www.iba27.de/weissenhoffence/
DTSTAMP:20260422T120916Z
ORGANIZER:IBA27.de
DTSTART:20251015T180000
DTEND:20251015T180000
SUMMARY:WeißenhOFFENCE
END:VEVENT
END:VCALENDAR
