BEGIN:VCALENDAR
PRODID:-//IBA27.de //NONSGML Events //EN
VERSION:2.0
BEGIN:VTIMEZONE
TZID:Europe/Berlin
BEGIN:STANDARD
TZOFFSETFROM:+0100
TZOFFSETTO:+0100
DTSTART:19701025T030000
TZNAME:CEST
END:STANDARD
END:VTIMEZONE
METHOD:PUBLISH
BEGIN:VEVENT
UID:39947
URL;VALUE=URI:https://www.iba27.de/abschlussabend-im-raum-der-iba/
DESCRIPTION:Wir ziehen weiter: Abschlussabend im Raum der IBA https://www.iba27.de/abschlussabend-im-raum-der-iba/
DTSTAMP:20260420T073014Z
ORGANIZER:IBA27.de
DTSTART:20260115T173000
DTEND:20260115T173000
SUMMARY:Wir ziehen weiter: Abschlussabend im Raum der IBA
END:VEVENT
END:VCALENDAR
