BEGIN:VCALENDAR
PRODID:-//IBA27.de //NONSGML Events //EN
VERSION:2.0
BEGIN:VTIMEZONE
TZID:Europe/Berlin
BEGIN:STANDARD
TZOFFSETFROM:+0100
TZOFFSETTO:+0100
DTSTART:19701025T030000
TZNAME:CEST
END:STANDARD
END:VTIMEZONE
METHOD:PUBLISH
BEGIN:VEVENT
UID:5303
URL;VALUE=URI:https://www.iba27.de/abschlussveranstaltung-des-buergerdialogs-im-quartier-backnang-west/
DESCRIPTION:Quartier Backnang West: Abschlussveranstaltung des Bürgerdialogs https://www.iba27.de/abschlussveranstaltung-des-buergerdialogs-im-quartier-backnang-west/
DTSTAMP:20260420T205954Z
ORGANIZER:IBA27.de
DTSTART:20200204T000000
DTEND:20200204T000000
SUMMARY:Quartier Backnang West: Abschlussveranstaltung des Bürgerdi
END:VEVENT
END:VCALENDAR
