BEGIN:VCALENDAR
PRODID:-//IBA27.de //NONSGML Events //EN
VERSION:2.0
BEGIN:VTIMEZONE
TZID:Europe/Berlin
BEGIN:STANDARD
TZOFFSETFROM:+0100
TZOFFSETTO:+0100
DTSTART:19701025T030000
TZNAME:CEST
END:STANDARD
END:VTIMEZONE
METHOD:PUBLISH
BEGIN:VEVENT
UID:5347
URL;VALUE=URI:https://www.iba27.de/ag-kooperationstreffen/
DESCRIPTION:AG-Treffen: »Zukunft der Arbeit« und »Nutzungsmischung« https://www.iba27.de/ag-kooperationstreffen/
DTSTAMP:20260421T081754Z
ORGANIZER:IBA27.de
DTSTART:20200117T000000
DTEND:20200117T000000
SUMMARY:AG-Treffen: »Zukunft der Arbeit« und »Nutzungsmischung«
END:VEVENT
END:VCALENDAR
