BEGIN:VCALENDAR
PRODID:-//IBA27.de //NONSGML Events //EN
VERSION:2.0
BEGIN:VTIMEZONE
TZID:Europe/Berlin
BEGIN:STANDARD
TZOFFSETFROM:+0100
TZOFFSETTO:+0100
DTSTART:19701025T030000
TZNAME:CEST
END:STANDARD
END:VTIMEZONE
METHOD:PUBLISH
BEGIN:VEVENT
UID:6651
URL;VALUE=URI:https://www.iba27.de/dialogfuehrung/
DESCRIPTION:»Wände I Walls«: Expertenführung https://www.iba27.de/dialogfuehrung/
DTSTAMP:20260419T091015Z
ORGANIZER:IBA27.de
DTSTART:20201030T000000
DTEND:20201030T000000
SUMMARY:»Wände I Walls«: Expertenführung
END:VEVENT
END:VCALENDAR
