BEGIN:VCALENDAR
PRODID:-//IBA27.de //NONSGML Events //EN
VERSION:2.0
BEGIN:VTIMEZONE
TZID:Europe/Berlin
BEGIN:STANDARD
TZOFFSETFROM:+0100
TZOFFSETTO:+0100
DTSTART:19701025T030000
TZNAME:CEST
END:STANDARD
END:VTIMEZONE
METHOD:PUBLISH
BEGIN:VEVENT
UID:9341
URL;VALUE=URI:https://www.iba27.de/club-neue-mitte/
DESCRIPTION:Werkstatt Leonhardsvorstadt: Club Neue Mitte https://www.iba27.de/club-neue-mitte/
DTSTAMP:20260424T114049Z
ORGANIZER:IBA27.de
DTSTART:20201002T000000
DTEND:20201002T000000
SUMMARY:Werkstatt Leonhardsvorstadt: Club Neue Mitte
END:VEVENT
END:VCALENDAR
