BEGIN:VCALENDAR
PRODID:-//IBA27.de //NONSGML Events //EN
VERSION:2.0
BEGIN:VTIMEZONE
TZID:Europe/Berlin
BEGIN:STANDARD
TZOFFSETFROM:+0100
TZOFFSETTO:+0100
DTSTART:19701025T030000
TZNAME:CEST
END:STANDARD
END:VTIMEZONE
METHOD:PUBLISH
BEGIN:VEVENT
UID:9679
URL;VALUE=URI:https://www.iba27.de/workshop-kunst-und-kultur/
DESCRIPTION:Workshop Leonhardsvorstadt: Kunst und Kultur https://www.iba27.de/workshop-kunst-und-kultur/
DTSTAMP:20260424T114038Z
ORGANIZER:IBA27.de
DTSTART:20200910T000000
DTEND:20200910T000000
SUMMARY:Workshop Leonhardsvorstadt: Kunst und Kultur
END:VEVENT
END:VCALENDAR
