BEGIN:VCALENDAR
PRODID:-//IBA27.de //NONSGML Events //EN
VERSION:2.0
BEGIN:VTIMEZONE
TZID:Europe/Berlin
BEGIN:STANDARD
TZOFFSETFROM:+0100
TZOFFSETTO:+0100
DTSTART:19701025T030000
TZNAME:CEST
END:STANDARD
END:VTIMEZONE
METHOD:PUBLISH
BEGIN:VEVENT
UID:9686
URL;VALUE=URI:https://www.iba27.de/workshop-kinder-und-jugendliche/
DESCRIPTION:Workshop Leonhardsvorstadt: Kinder und Jugendliche https://www.iba27.de/workshop-kinder-und-jugendliche/
DTSTAMP:20260425T191125Z
ORGANIZER:IBA27.de
DTSTART:20200924T000000
DTEND:20200924T000000
SUMMARY:Workshop Leonhardsvorstadt: Kinder und Jugendliche
END:VEVENT
END:VCALENDAR
